BEGIN:VCALENDAR
VERSION:2.0
PRODID:-//PYVOBJECT//NONSGML Version 1//EN
BEGIN:VEVENT
UID:24913:3756
DTSTART:20160309T000000
DTEND:20160731T000000
DESCRIPTION:
DTSTAMP:20260424T033226Z
SUMMARY:Klima-Service-Paket um € 20\,-
END:VEVENT
END:VCALENDAR
